
BEGIN:VCALENDAR
VERSION:2.0
PRODID:-//wp-events-plugin.com//7.2.3.1//EN
TZID:Europe/Paris
X-WR-TIMEZONE:Europe/Paris
BEGIN:VEVENT
UID:449@martillac.fr
DTSTART;TZID=Europe/Paris:20260508T110000
DTEND;TZID=Europe/Paris:20260508T110000
DTSTAMP:20260327T143428Z
URL:https://www.martillac.fr/evenements/ceremonie-de-la-commemoration-du-8
 -mai1945/
SUMMARY:CÉRÉMONIE DE LA COMMÉMORATION DU 8 MAI 1945
DESCRIPTION:À l'occasion de la commémoration de la Victoire du 8 mai 1945
 \, une cérémonie aura lieu le :\n\n 	VENDREDI 8 MAI\n 	À 11h00\n 	Place
  du Souvenir (derrière l'Église)\n\nLa cérémonie sera présidée par M
 onsieur le Maire\, Dominique CLAVERIE\, accompagné des Élus de l’équi
 pe municipale et du Conseil Municipal Jeunes (CMJ).\n\nLa Municipalité vo
 us invite à venir participer à ce moment de recueillement pour honorer l
 a mémoire de celles et ceux qui ont combattu pour la liberté et la paix.
 \n\nPrésence de l'association patriotique l'A.C.P.G.-C.A.T.M.-OPEX.\n\n&n
 bsp\;
ATTACH;FMTTYPE=image/jpeg:https://www.martillac.fr/wp-content/uploads/2024
 /02/pexels-atypeek-5781917-scaled.jpg
CATEGORIES:Animation municipale
LOCATION:Place du Souvenir\,  \, MARTILLAC\, 33650\, France
X-APPLE-STRUCTURED-LOCATION;VALUE=URI;X-ADDRESS= \, MARTILLAC\, 33650\, Fra
 nce;X-APPLE-RADIUS=100;X-TITLE=Place du Souvenir:geo:0,0
END:VEVENT
BEGIN:VTIMEZONE
TZID:Europe/Paris
X-LIC-LOCATION:Europe/Paris
BEGIN:DAYLIGHT
DTSTART:20260329T030000
TZOFFSETFROM:+0100
TZOFFSETTO:+0200
TZNAME:CEST
END:DAYLIGHT
END:VTIMEZONE
END:VCALENDAR