
BEGIN:VCALENDAR
VERSION:2.0
PRODID:-//wp-events-plugin.com//7.2.3.1//EN
TZID:Europe/Paris
X-WR-TIMEZONE:Europe/Paris
BEGIN:VEVENT
UID:155@martillac.fr
DTSTART;TZID=Europe/Paris:20211119T203000
DTEND;TZID=Europe/Paris:20211119T203000
DTSTAMP:20211108T125353Z
URL:https://www.martillac.fr/evenements/concert-dautomne/
SUMMARY:Concert d'automne
DESCRIPTION:\n\nConcert d'automne des Chorales Brins de Chants et Coetus Vo
 ce\nEntrée au "chapeau" au profit de l'Association "Un arc-en-ciel pour l
 es malades du Huntington" (ACMH).
ATTACH;FMTTYPE=image/jpeg:https://www.martillac.fr/wp-content/uploads/2021
 /11/brins-de-chant.png
CATEGORIES:Animations des associations,Arts &amp; Culture,Divertissement
LOCATION:Salle de Spectacle du Pôle Culturel\, Place Marcel Vayssière\, M
 artillac\, France
X-APPLE-STRUCTURED-LOCATION;VALUE=URI;X-ADDRESS=Place Marcel Vayssière\, M
 artillac\, France;X-APPLE-RADIUS=100;X-TITLE=Salle de Spectacle du Pôle C
 ulturel:geo:0,0
END:VEVENT
BEGIN:VTIMEZONE
TZID:Europe/Paris
X-LIC-LOCATION:Europe/Paris
BEGIN:STANDARD
DTSTART:20211031T020000
TZOFFSETFROM:+0200
TZOFFSETTO:+0100
TZNAME:CET
END:STANDARD
END:VTIMEZONE
END:VCALENDAR