
BEGIN:VCALENDAR
VERSION:2.0
PRODID:-//wp-events-plugin.com//7.2.3.1//EN
TZID:Europe/Paris
X-WR-TIMEZONE:Europe/Paris
BEGIN:VEVENT
UID:456@martillac.fr
DTSTART;TZID=Europe/Paris:20260425T203000
DTEND;TZID=Europe/Paris:20260425T203000
DTSTAMP:20260420T084012Z
URL:https://www.martillac.fr/evenements/concert-de-chant-basque/
SUMMARY:CONCERT DE CHANTS BASQUE
DESCRIPTION:L'association Martillac Loisirs vous donne rendez-vous pour une
  soirée placée sous le signe de la tradition et de l'émotion le samedi 
 25 avril 2026 à 20h30 à l'Église de Martillac.\nVenez découvrir les ma
 gnifiques chants du Pays basque interprétés par le chœur BESTALARIAK\, 
 pour un moment authentique et chaleureux.\n\nEntrée à 10 €uros et grat
 uit pour les enfants de moins de 12 ans.
ATTACH;FMTTYPE=image/jpeg:https://www.martillac.fr/wp-content/uploads/2026
 /04/Capture-decran-2026-04-20-102130.png
CATEGORIES:Animations des associations,Arts &amp; Culture
LOCATION:Eglise Sainte Quitterie\, 3 route de lartigue\, MARTILLAC\, 33650\
 , France
X-APPLE-STRUCTURED-LOCATION;VALUE=URI;X-ADDRESS=3 route de lartigue\, MARTI
 LLAC\, 33650\, France;X-APPLE-RADIUS=100;X-TITLE=Eglise Sainte Quitterie:g
 eo:0,0
END:VEVENT
BEGIN:VTIMEZONE
TZID:Europe/Paris
X-LIC-LOCATION:Europe/Paris
BEGIN:DAYLIGHT
DTSTART:20260329T030000
TZOFFSETFROM:+0100
TZOFFSETTO:+0200
TZNAME:CEST
END:DAYLIGHT
END:VTIMEZONE
END:VCALENDAR