
BEGIN:VCALENDAR
VERSION:2.0
PRODID:-//wp-events-plugin.com//7.2.3.1//EN
TZID:Europe/Paris
X-WR-TIMEZONE:Europe/Paris
BEGIN:VEVENT
UID:246@martillac.fr
DTSTART;TZID=Europe/Paris:20230319T160000
DTEND;TZID=Europe/Paris:20230319T173000
DTSTAMP:20230314T134659Z
URL:https://www.martillac.fr/evenements/concert-de-lharmonie-des-graves-de
 -montesquieu-4/
SUMMARY:Concert de l'Harmonie des Graves de Montesquieu.
DESCRIPTION:Concert de l'Harmonie des Graves de Montesquieu\, dimanche 19 m
 ars à 16 heures.\n\nEntrée libre.
ATTACH;FMTTYPE=image/jpeg:https://www.martillac.fr/wp-content/uploads/2023
 /03/AFFICHE-CONCERT-HARMONIE-LES-GRAVES-LE-19-03-23-5-pdf.jpg
CATEGORIES:Arts &amp; Culture,Manifestations diverses
LOCATION:Pôle Culturel\, Place Marcel Vayssière\, Martillac\, France
X-APPLE-STRUCTURED-LOCATION;VALUE=URI;X-ADDRESS=Place Marcel Vayssière\, M
 artillac\, France;X-APPLE-RADIUS=100;X-TITLE=Pôle Culturel:geo:0,0
END:VEVENT
BEGIN:VTIMEZONE
TZID:Europe/Paris
X-LIC-LOCATION:Europe/Paris
BEGIN:STANDARD
DTSTART:20221030T020000
TZOFFSETFROM:+0200
TZOFFSETTO:+0100
TZNAME:CET
END:STANDARD
END:VTIMEZONE
END:VCALENDAR