
BEGIN:VCALENDAR
VERSION:2.0
PRODID:-//wp-events-plugin.com//7.2.3.1//EN
TZID:Europe/Paris
X-WR-TIMEZONE:Europe/Paris
BEGIN:VEVENT
UID:437@martillac.fr
DTSTART;TZID=Europe/Paris:20260529T100000
DTEND;TZID=Europe/Paris:20260529T170000
DTSTAMP:20260420T124421Z
URL:https://www.martillac.fr/evenements/expertibus-a-martillac/
SUMMARY:EXPERTIBUS À MARTILLAC
DESCRIPTION:L'étude de Maître Marc Labarbe vous propose gratuitement de f
 aire expertiser vos objets d'Art. \n\nApportez vos objets à l'Expertibus
  et repartez avec une estimation gratuite\, confidentielle et sans engagem
 ent faite par un de nos commissaires-priseurs. Or\, bijoux\, pièces\, mon
 tres\, tableaux\, vin\, sculptures\, porcelaines\, objets chinois\, vietna
 miens\, japonais\, bronzes\, livres\, pendules\, tissus\, mode\, design\, 
 etc. Tous vos objets sont la bienvenue !\n\nLe passage du Bus\, Place Marc
 el Vayssière\, est prévu le vendredi 29 MAI 2026 de : 10h00 à 17H00\n
 Évènement co-organisé par la Municipalité et l'étude de Maître Marc 
 Labarbe.
ATTACH;FMTTYPE=image/jpeg:https://www.martillac.fr/wp-content/uploads/2025
 /11/pexels-mikhail-nilov-7828529-scaled.jpg
CATEGORIES:Arts &amp; Culture
LOCATION:Place Marcel Vayssière\,  \, MARTILLAC\, 33650\, France
X-APPLE-STRUCTURED-LOCATION;VALUE=URI;X-ADDRESS= \, MARTILLAC\, 33650\, Fra
 nce;X-APPLE-RADIUS=100;X-TITLE=Place Marcel Vayssière:geo:0,0
END:VEVENT
BEGIN:VTIMEZONE
TZID:Europe/Paris
X-LIC-LOCATION:Europe/Paris
BEGIN:DAYLIGHT
DTSTART:20260329T030000
TZOFFSETFROM:+0100
TZOFFSETTO:+0200
TZNAME:CEST
END:DAYLIGHT
END:VTIMEZONE
END:VCALENDAR