
BEGIN:VCALENDAR
VERSION:2.0
PRODID:-//wp-events-plugin.com//7.2.3.1//EN
TZID:Europe/Paris
X-WR-TIMEZONE:Europe/Paris
BEGIN:VEVENT
UID:424@martillac.fr
DTSTART;TZID=Europe/Paris:20251108T000000
DTEND;TZID=Europe/Paris:20251111T000000
DTSTAMP:20251107T082141Z
URL:https://www.martillac.fr/evenements/mediatheque-municipale-fermeture-e
 xceptionnelle-le-28-06-25-de-10h30-a-12h30/
SUMMARY:Médiathèque. Information Fermeture 08/11/25 et 11/11/25.
DESCRIPTION:\nLa Médiathèque Municipale sera exceptionnellement fermée :
   le samedi 8 novembre 2025 et le mardi 11 novembre 2025\nMerci pour votr
 e compréhension.\n&nbsp\;
ATTACH;FMTTYPE=image/jpeg:https://www.martillac.fr/wp-content/uploads/2025
 /05/Martillac-logo-2-mediatheque-scaled-1.jpg
CATEGORIES:Animations médiathèque,Municipalité
LOCATION:Médiathéque Claude Rouzier-Toussain\, 1 Place Marcel Vayssière 
  \, Martillac \, 33650\, France
X-APPLE-STRUCTURED-LOCATION;VALUE=URI;X-ADDRESS=1 Place Marcel Vayssière  
 \, Martillac \, 33650\, France;X-APPLE-RADIUS=100;X-TITLE=Médiathéque Cl
 aude Rouzier-Toussain:geo:0,0
END:VEVENT
BEGIN:VTIMEZONE
TZID:Europe/Paris
X-LIC-LOCATION:Europe/Paris
BEGIN:STANDARD
DTSTART:20251026T020000
TZOFFSETFROM:+0200
TZOFFSETTO:+0100
TZNAME:CET
END:STANDARD
END:VTIMEZONE
END:VCALENDAR