
BEGIN:VCALENDAR
VERSION:2.0
PRODID:-//wp-events-plugin.com//7.2.3.1//EN
TZID:Europe/Paris
X-WR-TIMEZONE:Europe/Paris
BEGIN:VEVENT
UID:457@martillac.fr
DTSTART;TZID=Europe/Paris:20260425T083000
DTEND;TZID=Europe/Paris:20260509T123000
DTSTAMP:20260420T093744Z
URL:https://www.martillac.fr/evenements/vente-de-plants-de-legumes-aromati
 ques-et-fleurs/
SUMMARY:VENTE DE PLANTS DE LÉGUMES\, AROMATIQUES ET FLEURS
DESCRIPTION:Cité Flor vous propose une vente de plants de légumes\, aroma
 tiques et fleurs les samedis\n\n 	25 AVRIL 2026\n 	02 MAI 2026\n 	ET 09 MA
 I 2026\n\nDE 8H30 À 12H00 - VENTE DIRECTE PRODUCTEUR À LA SERRE\n\nROUTE
  DE TOUT VENT - 2ème chemin à droite après le stade de Martillac (en di
 rection de La Brède).
ATTACH;FMTTYPE=image/jpeg:https://www.martillac.fr/wp-content/uploads/2026
 /04/Capture-decran-2026-04-20-113701.png
CATEGORIES:environnement
END:VEVENT
BEGIN:VTIMEZONE
TZID:Europe/Paris
X-LIC-LOCATION:Europe/Paris
BEGIN:DAYLIGHT
DTSTART:20260329T030000
TZOFFSETFROM:+0100
TZOFFSETTO:+0200
TZNAME:CEST
END:DAYLIGHT
END:VTIMEZONE
END:VCALENDAR